BEGIN:VCALENDAR
VERSION:2.0
PRODID:-//Institut du Droit de la Famille et du Patrimoine | Paris - ECPv6.15.20//NONSGML v1.0//EN
CALSCALE:GREGORIAN
METHOD:PUBLISH
X-ORIGINAL-URL:https://www.institut-dfp.com
X-WR-CALDESC:Évènements pour Institut du Droit de la Famille et du Patrimoine | Paris
REFRESH-INTERVAL;VALUE=DURATION:PT1H
X-Robots-Tag:noindex
X-PUBLISHED-TTL:PT1H
BEGIN:VTIMEZONE
TZID:Europe/Paris
BEGIN:DAYLIGHT
TZOFFSETFROM:+0100
TZOFFSETTO:+0200
TZNAME:CEST
DTSTART:20230326T010000
END:DAYLIGHT
BEGIN:STANDARD
TZOFFSETFROM:+0200
TZOFFSETTO:+0100
TZNAME:CET
DTSTART:20231029T010000
END:STANDARD
BEGIN:DAYLIGHT
TZOFFSETFROM:+0100
TZOFFSETTO:+0200
TZNAME:CEST
DTSTART:20240331T010000
END:DAYLIGHT
BEGIN:STANDARD
TZOFFSETFROM:+0200
TZOFFSETTO:+0100
TZNAME:CET
DTSTART:20241027T010000
END:STANDARD
BEGIN:DAYLIGHT
TZOFFSETFROM:+0100
TZOFFSETTO:+0200
TZNAME:CEST
DTSTART:20250330T010000
END:DAYLIGHT
BEGIN:STANDARD
TZOFFSETFROM:+0200
TZOFFSETTO:+0100
TZNAME:CET
DTSTART:20251026T010000
END:STANDARD
END:VTIMEZONE
BEGIN:VEVENT
DTSTART;TZID=Europe/Paris:20240227T170000
DTEND;TZID=Europe/Paris:20240227T190000
DTSTAMP:20260425T031523
CREATED:20250214T023422Z
LAST-MODIFIED:20250214T023422Z
UID:1045-1709053200-1709060400@www.institut-dfp.com
SUMMARY:Stratégie de l'amiable
DESCRIPTION:Le 27 février l’Institut du droit de la famille et du patrimoine lance son premier atelier de la saison 2024. \nCette conférence sera animée par deux ambassadeurs de l’amiable Me Carine Denoit-Benteux\, avocat associé du Cabinet DBO Avocats et médiateur et Natalie Fricero\, professeure de droit privé et sciences criminelles à l’université de Nice-Côte d’Azur\, membre du CONSEIL NATIONAL DE LA MEDIATION et ancien membre du Conseil Supérieur de la Magistrature. \nInformations pratiques\n2h sur la Stratégie de l’amiable\n💻 en visioconférence\n⏰ de 17h à 19h le 27/02/2024 \nObjectifs pédagogiques : \n\nPour vous guider vers une maîtrise de la stratégie amiable.\n\nTarifs : \n\n216€ HT pour les non-adhérents.\n108€ HT pour les adhérents IDFP.\n\nModalité : Formation à distance\, éligible à la FCO.Intervenantes : Me Carine Denoit-Benteux\, avocat associé du Cabinet DBO Avocats et médiateur et Natalie Fricero\, professeure de droit privé et sciences criminelles
URL:https://www.institut-dfp.com/evenements/strategie-de-lamiable/
CATEGORIES:Distanciel,Formation,Webinaire
END:VEVENT
END:VCALENDAR