BEGIN:VCALENDAR
VERSION:2.0
PRODID:-//Institut du Droit de la Famille et du Patrimoine | Paris - ECPv6.15.20//NONSGML v1.0//EN
CALSCALE:GREGORIAN
METHOD:PUBLISH
X-ORIGINAL-URL:https://www.institut-dfp.com
X-WR-CALDESC:Évènements pour Institut du Droit de la Famille et du Patrimoine | Paris
REFRESH-INTERVAL;VALUE=DURATION:PT1H
X-Robots-Tag:noindex
X-PUBLISHED-TTL:PT1H
BEGIN:VTIMEZONE
TZID:Europe/Paris
BEGIN:DAYLIGHT
TZOFFSETFROM:+0100
TZOFFSETTO:+0200
TZNAME:CEST
DTSTART:20240331T010000
END:DAYLIGHT
BEGIN:STANDARD
TZOFFSETFROM:+0200
TZOFFSETTO:+0100
TZNAME:CET
DTSTART:20241027T010000
END:STANDARD
BEGIN:DAYLIGHT
TZOFFSETFROM:+0100
TZOFFSETTO:+0200
TZNAME:CEST
DTSTART:20250330T010000
END:DAYLIGHT
BEGIN:STANDARD
TZOFFSETFROM:+0200
TZOFFSETTO:+0100
TZNAME:CET
DTSTART:20251026T010000
END:STANDARD
BEGIN:DAYLIGHT
TZOFFSETFROM:+0100
TZOFFSETTO:+0200
TZNAME:CEST
DTSTART:20260329T010000
END:DAYLIGHT
BEGIN:STANDARD
TZOFFSETFROM:+0200
TZOFFSETTO:+0100
TZNAME:CET
DTSTART:20261025T010000
END:STANDARD
BEGIN:DAYLIGHT
TZOFFSETFROM:+0100
TZOFFSETTO:+0200
TZNAME:CEST
DTSTART:20270328T010000
END:DAYLIGHT
BEGIN:STANDARD
TZOFFSETFROM:+0200
TZOFFSETTO:+0100
TZNAME:CET
DTSTART:20271031T010000
END:STANDARD
END:VTIMEZONE
BEGIN:VEVENT
DTSTART;TZID=Europe/Paris:20251201T090000
DTEND;TZID=Europe/Paris:20260630T123000
DTSTAMP:20260421T114845
CREATED:20251125T101752Z
LAST-MODIFIED:20260109T123911Z
UID:1511-1764579600-1782822600@www.institut-dfp.com
SUMMARY:Cycle Contrats & Familles : union libre\, PACS\, indivision\, mobilité internationale
DESCRIPTION:📣 L’IDFP lance un nouveau cycle de formations : “CONTRATS & FAMILLES” \nLe métier d’avocat en droit de la famille évolue.\nLes attentes des clients aussi. \nDans un contexte de mobilité internationale\, d’unions diversifiées et de stratégies patrimoniales de plus en plus complexes\, la maîtrise de l’ingénierie contractuelle devient une compétence incontournable. \nC’est pour répondre à cette évolution que l’IDFP crée un nouveau cycle structuré\, pratique et opérationnel : \n➡ Cycle “CONTRATS & FAMILLE” – 4 modules sur 2025 & 2026 \nDemander l’adhésion \nCONTENU DU MODULE\nDonner aux praticiens les outils pour : \n✔️ anticiper les conflits plutôt que les subir\n✔️ sécuriser les unions et projets familiaux\n✔️ proposer des accompagnements sur-mesure\n✔️ limiter les contentieux post-rupture\n✔️ développer une expertise stratégique et différenciante \nINFORMATIONS PRATIQUES\nLes 4 modules du cycle : \n1️⃣ Union libre – 1er décembre 2025 (en visio ou en replay)\n2️⃣  PACS : stratégies et clauses essentielles – 12 février 2026\n3️⃣ Indivision : prévenir les blocages – avril 2026\n4️⃣ Couples internationaux : anticipations contractuelles – juin 2026 \nFormat : En visio\nFormation Qualiopi – Eligible FCO \nDurée totale : 8h00 heures reconnues dans le cadre de la FCO. \nMODALITÉS ET DÉLAIS D’ACCÈS\nFormation en distanciel sur Zoom. Inscriptions ouvertes jusque juin 2026. \nUne fois la formation suivie\, vous recevrez les ressources complémentaires dans un délai de 10 jours.\nEn cas d’absence\, vous recevrez également les ressources complémentaires sous condition d’inscription.\nUne fois la formation suivie\, vous bénéficiez d’un accès illimité aux ressources. \nAccès handicap : \nNos locaux sont accessibles aux personnes en fauteuil\, et des aménagements sont possibles sur demande avec étude au cas par cas. Contactez : institut@institut-dfp.com \nTélécharger notre guide handicap.
URL:https://www.institut-dfp.com/evenements/cycle-contrats-familles-union-libre-pacs-indivision-mobilite-internationale/
CATEGORIES:Cycle,Distanciel,Formation,Présentiel
ATTACH;FMTTYPE=image/png:https://www.institut-dfp.com/wp-content/uploads/2025/11/1763986360476.png
END:VEVENT
BEGIN:VEVENT
DTSTART;TZID=Europe/Paris:20260301T090000
DTEND;TZID=Europe/Paris:20260430T123000
DTSTAMP:20260421T114845
CREATED:20260210T135159Z
LAST-MODIFIED:20260210T135159Z
UID:1587-1772355600-1777552200@www.institut-dfp.com
SUMMARY:Cycle avocat conseil des familles et déontologie
DESCRIPTION:Ce cycle de formation s’adresse aux avocates et avocats exerçant en droit de la famille et du patrimoine\, engagés dans une mission de conseil global\, souvent auprès de plusieurs membres d’une même famille. \nIl vise à sécuriser la pratique de l’avocat conseil face aux enjeux éthiques\, déontologiques et humains qui traversent cette mission :\nconflits d’intérêts\, secret professionnel\, prise en compte de l’intérêt supérieur de l’enfant. \nChaque module combine apports théoriques\, cas pratiques et échanges interactifs afin de permettre une appropriation opérationnelle immédiate. \nDemander l’adhésion \nCONTENU DU MODULE\nSécuriser juridiquement et déontologiquement la mission d’avocat conseil.\nAnticiper et gérer les situations sensibles impliquant plusieurs clients.\nRenforcer la qualité du conseil familial.\nAdopter une posture professionnelle adaptée aux enjeux humains et éthiques. \nINFORMATIONS PRATIQUES\nLes 3 modules du cycle : \n✔ Module 1 – L’avocat conseil des familles : surmonter le conflit d’intérêts \n📅 11 mars 2026 \nAnticiper un projet d’union\, une succession ou une perte d’autonomie… \n✔ Module 2 – Secret professionnel : cadre\, limites et bonnes pratiques \n📅 25 mars 2026 \nSecret professionnel en droit\, adaptations en pratique\, prévenir les difficultés… \n✔ Module 3 – L’intérêt supérieur de l’enfant : comprendre\, évaluer\, intégrer \n📅 8 avril 2026 \nNotion d’intérêt de l’enfant sur le fond\, processus d’évaluation\, difficultés rencontrées en pratique… \nFormat : En visio\nFormation Qualiopi – Eligible FCO \nDurée totale : 6 heures reconnues dans le cadre de la FCO. \nMODALITÉS ET DÉLAIS D’ACCÈS\nFormation en distanciel sur Zoom. Inscriptions ouvertes jusque MARS 2026. \nUne fois la formation suivie\, vous recevrez les ressources complémentaires dans un délai de 10 jours.\nEn cas d’absence\, vous recevrez également les ressources complémentaires sous condition d’inscription.\nUne fois la formation suivie\, vous bénéficiez d’un accès illimité aux ressources. \nAccès handicap : \nNos locaux sont accessibles aux personnes en fauteuil\, et des aménagements sont possibles sur demande avec étude au cas par cas. Contactez : institut@institut-dfp.com \nTélécharger notre guide handicap.
URL:https://www.institut-dfp.com/evenements/cycle-avocat-conseil-des-familles-et-deontologie/
CATEGORIES:Cycle,Distanciel,Formation,Présentiel
ATTACH;FMTTYPE=image/png:https://www.institut-dfp.com/wp-content/uploads/2026/02/Cycle-ACF-2026.png
END:VEVENT
BEGIN:VEVENT
DTSTART;TZID=Europe/Paris:20260311T170000
DTEND;TZID=Europe/Paris:20260311T200000
DTSTAMP:20260421T114845
CREATED:20260210T140036Z
LAST-MODIFIED:20260210T141341Z
UID:1592-1773248400-1773259200@www.institut-dfp.com
SUMMARY:L'avocat conseil des familles : surmonter le conflit d'intérêts | Cycle ACF
DESCRIPTION:La formation fait partie du Cycle ACF \nLorsqu’un couple consulte un avocat dans la perspective d’un projet d’union\, ou que des parents sollicitent un accompagnement pour anticiper leur perte d’autonomie ou leur succession\, le recours à un avocat unique s’impose souvent naturellement. \nCe module analyse :\n• les situations génératrices de conflits d’intérêts\,\n• les limites de l’intervention de l’avocat conseil\,\n• les solutions juridiques et déontologiques permettant de sécuriser la\nrelation client. \nOBJECTIFS PÉDAGOGIQUES\n\nQualifier une situation susceptible de constituer un conflit d’intérêts dans le cadre d’une mission d’avocat conseil des familles.\nIdentifier les contours juridiques et déontologiques du conflit d’intérêts lorsque l’avocat conseille plusieurs membres d’une même famille\nAnalyser les situations à risque à partir de cas pratiques issus de la pratique professionnelle.\nMettre en place un cadre d’intervention sécurisé permettant d’éviter ou de gérer un conflit d’intérêts.\n\nNiveau Débutant\n \nTarifs :\nFormation seule : \nAdhérents : 50€ HT\nNon adhérents : 70 € HT \nOu dans le cycle : \nAdhérents : 150€ HT\nNon adhérents : 210 € HT \nSi vous êtes adhérent de l’IDFP\, le tarif préférentiel sera appliqué sur votre facture à réception de votre pré-inscription. \nToutes nos formations permettent de valider vos heures et sont susceptibles d’une prise en charge par le FIF-PL. \nDemander l’adhésion \nINFORMATIONS PRATIQUES\nDate : 11 mars 2026\nHoraires : De 18h à 20h\nFormat : En visioconférence\nFormation Qualiopi – Eligible FCO \nDurée totale : 2h \nFormateurs :\nAnne Marion de Cayeux\, avocate en droit de la famille et du patrimoine (cabinet Ereine)\, coach en conflit\, médiateur et auditeur d’enfants. \nMODALITÉS ET DÉLAIS D’ACCÈS\nFormation en distanciel sur Zoom. Inscriptions ouvertes jusqu’au 05/03/2026 \nUne fois la formation suivie\, vous recevrez les ressources complémentaires dans un délai de 10 jours.\nEn cas d’absence\, vous recevrez également les ressources complémentaires sous condition d’inscription.\nUne fois la formation suivie\, vous bénéficiez d’un accès illimité aux ressources. \nAccès handicap : \nNos locaux sont accessibles aux personnes en fauteuil\, et des aménagements sont possibles sur demande avec étude au cas par cas. Contactez : institut@institut-dfp.com \nTélécharger notre guide handicap. \n 
URL:https://www.institut-dfp.com/evenements/lavocat-conseil-des-familles-surmonter-le-conflit-dinterets-cycle-acf/
CATEGORIES:Distanciel,Formation,Webinaire
ATTACH;FMTTYPE=image/png:https://www.institut-dfp.com/wp-content/uploads/2026/02/Atelier-1-110326.png
END:VEVENT
BEGIN:VEVENT
DTSTART;VALUE=DATE:20260316
DTEND;VALUE=DATE:20260318
DTSTAMP:20260421T114845
CREATED:20260128T153729Z
LAST-MODIFIED:20260129T100048Z
UID:1572-1773619200-1773791999@www.institut-dfp.com
SUMMARY:Approche systémique et droit de la famille : renforcer sa stratégie d’avocat
DESCRIPTION:Cette formation en présentiel propose aux avocats en droit de la famille de s’approprier les fondements de l’approche systémique de Palo Alto\, appliqués concrètement à la pratique du cabinet. \nL’objectif : mieux comprendre les dynamiques relationnelles\, ajuster votre posture professionnelle et construire des stratégies d’intervention efficaces\, même dans les contextes les plus tendus (conflit\, escalade\, résistance\, aide contrainte). \nUne pédagogie résolument pratique • Études de cas réels • Jeux de rôles et simulations d’entretiens • Outils systémiques : recadrage\, questionnement stratégique\, métaphores\, prescriptions • Travail collectif sur des situations complexes rencontrées en cabinet \n📅 16 & 17 mars 🕘 2 jours – de 9h30 à 17h00 \nOBJECTIFS PÉDAGOGIQUES\n\nComprendre les logiques relationnelles à l’œuvre dans les conflits familiaux\nIdentifier les impasses\, escalades et tentatives de solutions inefficaces\nAdapter sa posture d’avocat face à la résistance\, aux émotions et à la contrainte\nConstruire des stratégies d’intervention efficaces\, même en contexte tendu\nDévelopper des outils immédiatement transférables en entretien et en audience\n\nTarifs :\n2 jours : \nAdhérents : 600 € HT\nNon adhérents : 700 € HT\nAvocats – de 5 ans de barreau : 500 € HT \nSi vous êtes adhérent de l’IDFP\, le tarif préférentiel sera appliqué sur votre facture à réception de votre pré-inscription. \nToutes nos formations permettent de valider vos heures et sont susceptibles d’une prise en charge par le FIF-PL. \nDemander l’adhésion \nINFORMATIONS PRATIQUES\nDate : 16 & 17 mars 2026\nHoraires : De 09h30 à 17h00\nFormat : En présentiel\nFormation Qualiopi – Eligible FCO \nFormateurs :\n• Blanche Lavenir\, Avocate au Barreau de Paris & médiatrice \n• Coralie Gaffinel\, Avocate au Barreau de Paris \n• Delphine Loez\, Systémicienne – Formatrice & superviseure (École de Palo Alto) \nMODALITÉS ET DÉLAIS D’ACCÈS\nFormation en présentiel. \nSalle Adèle Picot 37 rue Notre-Dame des Champs 75006 Paris \nInscriptions ouvertes jusqu’au 10/03/2026 \nUne fois la formation suivie\, vous recevrez les ressources complémentaires dans un délai de 10 jours.\nEn cas d’absence\, vous recevrez également les ressources complémentaires sous condition d’inscription.\nUne fois la formation suivie\, vous bénéficiez d’un accès illimité aux ressources. \nAccès handicap : \nNos locaux sont accessibles aux personnes en fauteuil\, et des aménagements sont possibles sur demande avec étude au cas par cas. Contactez : institut@institut-dfp.com \nTélécharger notre guide handicap. \n 
URL:https://www.institut-dfp.com/evenements/approche-systemique-et-droit-de-la-famille-renforcer-sa-strategie-davocat/
LOCATION:Salle Adèle Picot\, 39 Rue notre Dame des Champs\, Paris\, 75006\, France
CATEGORIES:Formation,Présentiel
ATTACH;FMTTYPE=image/png:https://www.institut-dfp.com/wp-content/uploads/2026/01/Approche-systemique.png
END:VEVENT
BEGIN:VEVENT
DTSTART;TZID=Europe/Paris:20260325T170000
DTEND;TZID=Europe/Paris:20260325T200000
DTSTAMP:20260421T114845
CREATED:20260210T140631Z
LAST-MODIFIED:20260210T141313Z
UID:1595-1774458000-1774468800@www.institut-dfp.com
SUMMARY:Secret professionnel et avocat conseil : cadre\, limites et bonnes pratiques | Cycle ACF
DESCRIPTION:La formation Secret professionnel et avocat conseil fait partie du Cycle ACF \nDans le cadre de la mission d’avocat conseil\, la question du secret professionnel se pose avec une acuité particulière\, notamment lorsque l’avocat :\n• intervient pour plusieurs membres d’une même famille\,\n• travaille en collaboration avec d’autres professionnels (notaires\, experts\, médiateurs…). \nCe module propose une analyse approfondie :\n• du secret professionnel en droit\,\n• de ses adaptations en pratique\,\n• des outils concrets permettant de prévenir les difficultés. \nOBJECTIFS PÉDAGOGIQUES\n\nDéfinir le périmètre du secret professionnel applicable à l’avocat conseil des familles.\nDistinguer les enjeux spécifiques du secret professionnel lorsque l’avocat intervient auprès de plusieurs clients au sein d’une même famille.\nIdentifier les risques liés au partage d’informations dans un contexte de pluridisciplinarité (notaires\, experts\, autres professionnels).\nMettre en œuvre un cadre de travail conforme aux exigences déontologiques en matière de secret professionnel.\nAnalyser des situations complexes à partir de cas pratiques et déterminer les bonnes pratiques à adopter.\n\nNiveau Débutant\n \nTarifs :\nFormation seule : \nAdhérents : 50€ HT\nNon adhérents : 70 € HT \nOu dans le cycle : \nAdhérents : 150€ HT\nNon adhérents : 210 € HT \nSi vous êtes adhérent de l’IDFP\, le tarif préférentiel sera appliqué sur votre facture à réception de votre pré-inscription. \nToutes nos formations permettent de valider vos heures et sont susceptibles d’une prise en charge par le FIF-PL. \nDemander l’adhésion \nINFORMATIONS PRATIQUES\nDate : 25 mars 2026\nHoraires : De 18h à 20h\nFormat : En visioconférence\nFormation Qualiopi – Eligible FCO \nDurée totale : 2h \nFormateurs :\nAnne Marion de Cayeux\, avocate en droit de la famille et du patrimoine (cabinet Ereine)\, coach en conflit\, médiateur et auditeur d’enfants. \nMODALITÉS ET DÉLAIS D’ACCÈS\nFormation en distanciel sur Zoom. Inscriptions ouvertes jusqu’au 15/03/2026 \nUne fois la formation suivie\, vous recevrez les ressources complémentaires dans un délai de 10 jours.\nEn cas d’absence\, vous recevrez également les ressources complémentaires sous condition d’inscription.\nUne fois la formation suivie\, vous bénéficiez d’un accès illimité aux ressources. \nAccès handicap : \nNos locaux sont accessibles aux personnes en fauteuil\, et des aménagements sont possibles sur demande avec étude au cas par cas. Contactez : institut@institut-dfp.com \nTélécharger notre guide handicap. \n 
URL:https://www.institut-dfp.com/evenements/secret-professionnel-et-avocat-conseil-cadre-limites-et-bonnes-pratiques-cycle-acf/
CATEGORIES:Distanciel,Formation,Webinaire
ATTACH;FMTTYPE=image/png:https://www.institut-dfp.com/wp-content/uploads/2026/02/Atelier-2-250326.png
END:VEVENT
BEGIN:VEVENT
DTSTART;TZID=Europe/Paris:20260327T120000
DTEND;TZID=Europe/Paris:20260327T140000
DTSTAMP:20260421T114845
CREATED:20260323T085029Z
LAST-MODIFIED:20260323T085029Z
UID:1618-1774612800-1774620000@www.institut-dfp.com
SUMMARY:DIP - Réflexes dans le cadre d'un divorce international
DESCRIPTION:Réflexes dans le cadre d’un divorce international\nLes déjeuners du DIP \n💻 Webinaire – 2 heures | Vendredi 27 mars 2026 – 12h à 14h \nUn divorce international ne s’improvise pas. Lorsqu’un divorce comporte un élément d’extranéité\, les décisions prises dès le premier entretien client peuvent avoir des conséquences déterminantes : juridiction compétente\, loi applicable\, stratégie procédurale. \n🎓 Niveau : Débutant Un format efficace\, pratique et directement exploitable en cabinet. \nOBJECTIFS PÉDAGOGIQUES\n\nIdentifier immédiatement les éléments d’extranéité\nAdopter les bons réflexes dès le premier rendez-vous\nSécuriser la stratégie sans perdre de temps\nMobiliser les bons instruments juridiques (français\, européens\, internationaux)\n\nNiveau Débutant\n \nTarifs :\nFormation seule : \nAdhérents : 50€ HT\nNon adhérents : 70 € HT \nSi vous êtes adhérent de l’IDFP\, le tarif préférentiel sera appliqué sur votre facture à réception de votre pré-inscription. \nToutes nos formations permettent de valider vos heures et sont susceptibles d’une prise en charge par le FIF-PL. \nDemander l’adhésion \nINFORMATIONS PRATIQUES\nDate : Le 27 mars 2026\nHoraires : De 12h à 14h\nFormat : En visioconférence\nFormation Qualiopi – Eligible FCO \nDurée totale : 2h \nFormateurs :\nRaluca LOLEV – Avocate associée Cabinet Ivoire – Famille\, patrimoine & successions \nMorghân PELTIER – Avocate au Barreau de Paris – Cabinet Chauveau Mulon & Associés \nMODALITÉS ET DÉLAIS D’ACCÈS\nFormation en distanciel sur Zoom. Inscriptions ouvertes jusqu’au 26/03/2026 \n  \nAccès handicap : \nNos locaux sont accessibles aux personnes en fauteuil\, et des aménagements sont possibles sur demande avec étude au cas par cas. Contactez : institut@institut-dfp.com \nTélécharger notre guide handicap. \n 
URL:https://www.institut-dfp.com/evenements/dip-reflexes-dans-le-cadre-dun-divorce-international/
CATEGORIES:Distanciel,Formation,Webinaire
ATTACH;FMTTYPE=image/png:https://www.institut-dfp.com/wp-content/uploads/2026/03/Regimes-matrimoniaux-1.png
END:VEVENT
END:VCALENDAR