BEGIN:VCALENDAR
VERSION:2.0
PRODID:-//Institut du Droit de la Famille et du Patrimoine | Paris - ECPv6.15.20//NONSGML v1.0//EN
CALSCALE:GREGORIAN
METHOD:PUBLISH
X-WR-CALNAME:Institut du Droit de la Famille et du Patrimoine | Paris
X-ORIGINAL-URL:https://www.institut-dfp.com
X-WR-CALDESC:Évènements pour Institut du Droit de la Famille et du Patrimoine | Paris
REFRESH-INTERVAL;VALUE=DURATION:PT1H
X-Robots-Tag:noindex
X-PUBLISHED-TTL:PT1H
BEGIN:VTIMEZONE
TZID:Europe/Paris
BEGIN:DAYLIGHT
TZOFFSETFROM:+0100
TZOFFSETTO:+0200
TZNAME:CEST
DTSTART:20220327T010000
END:DAYLIGHT
BEGIN:STANDARD
TZOFFSETFROM:+0200
TZOFFSETTO:+0100
TZNAME:CET
DTSTART:20221030T010000
END:STANDARD
BEGIN:DAYLIGHT
TZOFFSETFROM:+0100
TZOFFSETTO:+0200
TZNAME:CEST
DTSTART:20230326T010000
END:DAYLIGHT
BEGIN:STANDARD
TZOFFSETFROM:+0200
TZOFFSETTO:+0100
TZNAME:CET
DTSTART:20231029T010000
END:STANDARD
BEGIN:DAYLIGHT
TZOFFSETFROM:+0100
TZOFFSETTO:+0200
TZNAME:CEST
DTSTART:20240331T010000
END:DAYLIGHT
BEGIN:STANDARD
TZOFFSETFROM:+0200
TZOFFSETTO:+0100
TZNAME:CET
DTSTART:20241027T010000
END:STANDARD
END:VTIMEZONE
BEGIN:VEVENT
DTSTART;VALUE=DATE:20230120
DTEND;VALUE=DATE:20230121
DTSTAMP:20260426T032416
CREATED:20241014T204510Z
LAST-MODIFIED:20241014T204559Z
UID:937-1674172800-1674259199@www.institut-dfp.com
SUMMARY:Majeurs vulnérables & biens immos
DESCRIPTION:Animée par : Isabelle COPÉ-BESSIS (Avocat au Barreau de Paris\, Spécialiste en droit des personnes de la famille et du patrimoine\, Médiateur\, Membre du Conseil d’Administration de l’IDFP\, Présidente du groupe de travail) \nAvec la participation de : \nAndréa PLUMEL\, Avocat au Barreau de Paris et Médiateur\,\nAnissette FERREIRA\, Mandataire judiciaire à la protection des majeurs\,\nOlivier CHOMONO\, Directeur associé de la CURATELAIRE\, Enseignant à la Faculté de droit \nOBJECTIFS OPERATIONNELS \nA l’issue de l’atelier\, le participant sera capable de :\nAvoir des clefs sur l’orientation à envisager quant au choix du lieu de vie du majeur vulnérable au regard de son état de santé et de sa situation économique\,\nAccompagner son client\, majeur vulnérable ou ses proches\, dans les aspects juridiques de la gestion de son lieu de vie et de ses biens immobiliers\,\nAdopter les bonnes pratiques dans l’appréhension de la vulnérabilité et de la gestion des biens immobiliers afin de suggérer ou saisir les bons intervenants. \nOBJECTIFS PEDAGOGIQUES  \nA l’issue de l’atelier\, le participant aura appris :\nA identifier et résoudre les problématiques les plus courantes liées au choix du lieu de vie du majeur vulnérable et à la protection particulière dont bénéficie son logement\,\nA identifier et résoudre les problématiques les plus courantes liées aux biens immobiliers du majeur vulnérable\,\nA adopter les bons réflexes pour conseiller le majeur vulnérable ou ses proches\, dans la gestion de son lieu de vie et de ses biens immobiliers\,\nA identifier les actions possibles relatives au logement et au patrimoine immobilier du majeur vulnérable. \nPRESENTATION ET PROGRAMME DETAILLE  \nCet atelier pluridisciplinaire s’inscrit dans un cycle de formation autour de la personne vulnérable et se propose de faire le point sur les problématiques liées au logement du majeur vulnérable et à ses biens immobiliers. \nRappel des premières questions à poser et à se poser : capacité et consentement du majeur\, mesures de protection judiciaires et conventionnelles\, principes essentiels régissant la protection de la personne et des biens du majeur vulnérable\, classification des actes pouvant être effectués sur les biens\, \nLe logement du majeur vulnérable :\nFondements textuels de la protection spécifique appliquée au logement\,\nChoix par le majeur vulnérable de son lieu de vie (logement et meubles)\,\nSort du logement (vente\, résiliation ou mise en location) selon le lieu où le majeur vulnérable réside effectivement en prenant en considération son état de santé et sa situation économique\, \nLes autres biens immobiliers du majeur protégé :\nFondements textuels régissant la gestion des biens du majeur vulnérable\,\nSort des biens (vente\, résiliation ou mise en location) selon qu’ils soient détenus en pleine propriété ou en propriété divise (indivision\, démembrement\, sociétés)\nGestion des conflits d’intérêts et oppositions\nPlace de la famille \nPUBLIC ET PREREQUIS \nIl est destiné aux avocats spécialistes ou praticiens du droit de la famille\, aux avocats de majeurs protégés\, aux mandataires à la protection des majeurs\, aux notaires.
URL:https://www.institut-dfp.com/evenements/majeurs-vulnerables-biens-immos/
CATEGORIES:Formation
END:VEVENT
END:VCALENDAR