BEGIN:VCALENDAR
VERSION:2.0
PRODID:-//Institut du Droit de la Famille et du Patrimoine | Paris - ECPv6.15.20//NONSGML v1.0//EN
CALSCALE:GREGORIAN
METHOD:PUBLISH
X-ORIGINAL-URL:https://www.institut-dfp.com
X-WR-CALDESC:Évènements pour Institut du Droit de la Famille et du Patrimoine | Paris
REFRESH-INTERVAL;VALUE=DURATION:PT1H
X-Robots-Tag:noindex
X-PUBLISHED-TTL:PT1H
BEGIN:VTIMEZONE
TZID:Europe/Paris
BEGIN:DAYLIGHT
TZOFFSETFROM:+0100
TZOFFSETTO:+0200
TZNAME:CEST
DTSTART:20220327T010000
END:DAYLIGHT
BEGIN:STANDARD
TZOFFSETFROM:+0200
TZOFFSETTO:+0100
TZNAME:CET
DTSTART:20221030T010000
END:STANDARD
BEGIN:DAYLIGHT
TZOFFSETFROM:+0100
TZOFFSETTO:+0200
TZNAME:CEST
DTSTART:20230326T010000
END:DAYLIGHT
BEGIN:STANDARD
TZOFFSETFROM:+0200
TZOFFSETTO:+0100
TZNAME:CET
DTSTART:20231029T010000
END:STANDARD
BEGIN:DAYLIGHT
TZOFFSETFROM:+0100
TZOFFSETTO:+0200
TZNAME:CEST
DTSTART:20240331T010000
END:DAYLIGHT
BEGIN:STANDARD
TZOFFSETFROM:+0200
TZOFFSETTO:+0100
TZNAME:CET
DTSTART:20241027T010000
END:STANDARD
END:VTIMEZONE
BEGIN:VEVENT
DTSTART;TZID=Europe/Paris:20230922T093000
DTEND;TZID=Europe/Paris:20231115T173000
DTSTAMP:20260425T134159
CREATED:20241014T204936Z
LAST-MODIFIED:20241014T204936Z
UID:942-1695375000-1700069400@www.institut-dfp.com
SUMMARY:Les Ateliers DIP
DESCRIPTION:OBJECTIFS OPÉRATIONNELS ET PÉDAGOGIQUES\nA l’issue de la formation\, le participant sera capable de comprendre et maîtriser les aspects internationaux des dossiers en droit de la famille concernant les questions de compétence\, de loi applicable et de reconnaissance\, par la résolution de cas pratiques orientés par thématiques.  \nDATES\nDeux cycles d’ateliers sont prévus selon le niveau des participants :\nUn niveau débutant : le 22 septembre 2023 de 9h30 à 17h30 \nUn niveau expert : le 15 novembre 2023 de 9h30 à 17h30   \nDURÉE TOTALE\n8 heures.   \nDÉROULÉ DE LA FORMATION\nChaque cycle de formation est composé de quatre ateliers thématiques :   \nLe divorce international et les obligations alimentaires transfrontières   \nL’autorité parentale et les enlèvements internationaux d’enfants  \nLa liquidation des intérêts patrimoniaux des couples internationaux & les successions  \nL’anticipation matrimoniale et successorale dans un contexte international   \nPour chaque atelier\, des cas pratiques seront développés par les intervenants\, en interaction avec les participants. Le support des cas pratiques seront envoyés après l’inscription et en amont de la formation.  \nLIEU\nSalle Gaston Monnerville de la Maison du Barreau de Paris\, 2 rue de Harlay\, Paris 1er. Le présentiel est favorisé au regard de l’aspect pratique de la formation. Compte-tenu du nombre de places limitées (50 places)\, une visioconférence sera également mise à disposition.   \nPUBLIC ET PREREQUIS\nL’ensemble des praticiens du droit de la famille\, des personnes et de leur patrimoine.
URL:https://www.institut-dfp.com/evenements/les-ateliers-dip/
CATEGORIES:Formation
END:VEVENT
BEGIN:VEVENT
DTSTART;TZID=Europe/Paris:20231009T170000
DTEND;TZID=Europe/Paris:20231009T200000
DTSTAMP:20260425T134159
CREATED:20241014T205115Z
LAST-MODIFIED:20250220T045750Z
UID:944-1696870800-1696881600@www.institut-dfp.com
SUMMARY:QPC Droit de la Famille
DESCRIPTION:Lundi 9 octobre 2023\, 17h-20h\, à Paris ou à distance \nDurée totale : 3 heures \nPrésentation et programme détaillé : \n\nIntroduction\nPrérequis constitutionnels\nDescription de la pratique processuelle et présentation des moyens utiles en droit de la famille susceptibles d’être invoqués au soutien d’une QPC\nAnalyse des décisions ayant donné lieu à des décisions favorables\nAnalyse des décisions de rejet et leur apport\nConclusion\n\nLa formation aura lieu le lundi 09 octobre 2023 de 17h à 20h et sera accessible en présentiel\, à Paris (Métro Saint-Michel Notre-Dame) ou à distance en direct. \nToutes nos formations sont validées au titre de la formation professionnelle continue et certifiées QUALIOPI. \nVoir le programme détaillé en PDF. \nInscription et règlement en ligne – Référence indiquée : IDFP.09.10.2023 \nObjectifs opérationnels : Bilan du contrôle a posteriori des lois via la QPC en droit de la famille\, enseignements à tirer des décisions déjà rendues\, réflexes et pistes de travail pour l’avenir. \nObjectifs pédagogiques : Comprendre la procédure et la pratique du filtrage pour avoir les bons réflexes\, les pièges juridictionnels et la façon de les éviter. Attention\, la formation n’a pas vocation à rappeler les règles procédurales de présentation d’une QPC. \nPublic et prérequis : Avocats\, magistrats \nMéthodes pédagogiques : \nCette formation combine plusieurs approches complémentaires : une méthode magistrale pour exposer les concepts clés\, une méthode démonstrative appuyée sur des exemples concrets et études de cas\, et une méthode active favorisant l’interaction et la mise en pratique par des discussions et exercices. \nModes d’évaluations : \nÀ l’issue de la session\, vous devrez réaliser un QCM d’évaluation des compétences acquises au cours de la formation. \nAnimée par\nFadela HOUARI\nAvocate au Barreau de PARIS\nMembre du conseil d’administration de l’IDFP\navec \nPhilippe BLANC\nMagistrat administratif\nMembre du service juridique du Conseil constitutionnel \nAgnès ROBLOT-TROIZIER\nProfesseur de droit public\nDirectrice de l’Ecole de Droit de la Sorbonne (EDS) \nModalités d’accès et délais :  \nInscriptions ouvertes jusqu’au 06 octobre 2023 minuit.\nUne fois la formation suivie\, vous recevrez les ressources complémentaires dans un délai de 10 jours.\nEn cas d’absence\, vous recevrez également les ressources complémentaires.\nUne fois la formation suivie\, vous bénéficiez d’un accès illimité aux ressources. \nTarifs : \nAdhérent IDFP : 25€ttc (20\,83€ht)\, montant TVA 20% (4\,17 euros)\nNon adhérent IDFP : 70€ttc (58€ht) montant TVA 20% (12 euros) \nNon-adhérent moins de 3 ans de Barreau : 25€ttc (20\,83€ht) montant TVA 20% (4\,17 euros) \nÉlèves avocats : gratuit (vous inscrire directement par mail) \nAccès handicap :  \nNos locaux sont accessibles aux personnes en fauteuil\, et des aménagements sont possibles sur demande avec étude au cas par cas. Contactez : institut@institut-dfp.com \nTélécharger notre guide handicap. \nAccessibilité :\n \nLes lignes de transport suivantes ont des itinéraires qui passent près de Maison du Barreau \nRER: A\, B\, C.\nMétro: 1\, 14\, 4\, 7\, 11.\nBus: 38\, 47\, 72\, 74\, 85.\n \nLes stations les plus proches de Maison du Barreau sont : \n\nSt Michel Notre Dame est à 89 mètres soit 2 min de marche.\nSaint-Michel Notre-Dame est à 93 mètres soit 2 min de marche.\nPont Neuf – Quai Des Orfèvres est à 197 mètres soit 3 min de marche.\nSaint-Michel est à 236 mètres soit 4 min de marche.\nChâtelet – Quai de Gesvres est à 288 mètres soit 4 min de marche.\nChâtelet est à 292 mètres soit 4 min de marche.\nPont Neuf – Quai du Louvre est à 343 mètres soit 5 min de marche.\nCité – Palais de Justice est à 397 mètres soit 6 min de marche.\n\n 
URL:https://www.institut-dfp.com/evenements/qpc-droit-de-la-famille/
LOCATION:Maison du barreau de Paris\, 2 Rue de Harlay\, Paris\, 75001\, France
CATEGORIES:Formation
END:VEVENT
END:VCALENDAR