BEGIN:VCALENDAR
VERSION:2.0
PRODID:-//Institut du Droit de la Famille et du Patrimoine | Paris - ECPv6.15.20//NONSGML v1.0//EN
CALSCALE:GREGORIAN
METHOD:PUBLISH
X-WR-CALNAME:Institut du Droit de la Famille et du Patrimoine | Paris
X-ORIGINAL-URL:https://www.institut-dfp.com
X-WR-CALDESC:Évènements pour Institut du Droit de la Famille et du Patrimoine | Paris
REFRESH-INTERVAL;VALUE=DURATION:PT1H
X-Robots-Tag:noindex
X-PUBLISHED-TTL:PT1H
BEGIN:VTIMEZONE
TZID:Europe/Paris
BEGIN:DAYLIGHT
TZOFFSETFROM:+0100
TZOFFSETTO:+0200
TZNAME:CEST
DTSTART:20240331T010000
END:DAYLIGHT
BEGIN:STANDARD
TZOFFSETFROM:+0200
TZOFFSETTO:+0100
TZNAME:CET
DTSTART:20241027T010000
END:STANDARD
BEGIN:DAYLIGHT
TZOFFSETFROM:+0100
TZOFFSETTO:+0200
TZNAME:CEST
DTSTART:20250330T010000
END:DAYLIGHT
BEGIN:STANDARD
TZOFFSETFROM:+0200
TZOFFSETTO:+0100
TZNAME:CET
DTSTART:20251026T010000
END:STANDARD
BEGIN:DAYLIGHT
TZOFFSETFROM:+0100
TZOFFSETTO:+0200
TZNAME:CEST
DTSTART:20260329T010000
END:DAYLIGHT
BEGIN:STANDARD
TZOFFSETFROM:+0200
TZOFFSETTO:+0100
TZNAME:CET
DTSTART:20261025T010000
END:STANDARD
END:VTIMEZONE
BEGIN:VEVENT
DTSTART;TZID=Europe/Paris:20250408T180000
DTEND;TZID=Europe/Paris:20251201T200000
DTSTAMP:20260424T025953
CREATED:20250320T164839Z
LAST-MODIFIED:20251125T102016Z
UID:1131-1744135200-1764619200@www.institut-dfp.com
SUMMARY:Cycle complet des Avocats Conseil des Familles
DESCRIPTION:L’avocat conseil des familles est au cœur des réflexions de la commission prospective de l’IDFP. Nous vous invitons à participer à notre nouveau cycle de formations 100% distanciel sur la thématique de l’avocat conseil des familles. \nNous installons aussi la tenue\, chaque mois d’octobre\, d’un colloque annuel en présentiel à la Maison du barreau dédié à l’avocat conseil des familles. \nCette année\, il sera consacré à l’accompagnement familial du chef d’entreprise. \n\n\n\n\nSuivez une série de 8 formations pratiques réparties sur l’année 2025 à raison d’une formation par mois. \n🎯 14 heures de formation éligible à la FCO pour approfondir les sujets et les mettre en perspective dans la pratique quotidienne de l’avocat conseil des familles \n\nProgramme du cycle :\n\n\n\n\n08 Avril : Les outils au service de l’avocat conseil des familles : le legal design (partie 1)\n01 Juillet : Utiliser les méthodes des MARD dans la mission de conseil des familles\n17 Septembre (18h – 20h) : L’avocat conseil et la filiation biologique/d’intention\n23 Septembre (18h – 20h) : La systémie\, nouvelle ressource pour l’avocat conseil des familles\n13 Novembre (18h – 20h) : L’anticipation de l’incapacité ou du décès du parent d’un enfant mineur\n18 Novembre (18h – 20h) : Les outils au service de l’avocat conseil des familles : l’IA (partie 2)\n1er Décembre (18h – 20h) : L’élaboration des contrats de famille : Union Libre\n\n\n\n\n\n\n\nInformations Pratiques\nTarifs : \n\n420€ HT pour les non-adhérents.\n300€ HT pour les adhérents IDFP.\n\nSi vous êtes adhérent de l’IDFP\, le tarif préférentiel sera appliqué sur votre facture à réception de votre pré-inscription. \nDemander l’adhésion \nToutes nos formations permettent de valider vos heures et sont susceptibles d’une prise en charge par le FIF-PL. \nDurée : Cycle de 14h de formation à distance sur l’année 2025\nFormation Qualiopi – Eligible FCO \nMODALITÉS ET DÉLAIS D’ACCÈS : \nFormation en distanciel sur Zoom. Inscriptions ouvertes jusqu’au 01/11/2025. \nUne fois la formation suivie\, vous recevrez les ressources complémentaires dans un délai de 10 jours.\nEn cas d’absence\, vous recevrez également les ressources complémentaires sous condition d’inscription.\nUne fois la formation suivie\, vous bénéficiez d’un accès illimité aux ressources. \nAccès handicap :  \nNos locaux sont accessibles aux personnes en fauteuil\, et des aménagements sont possibles sur demande avec étude au cas par cas. Contactez : institut@institut-dfp.com \nTélécharger notre guide handicap.
URL:https://www.institut-dfp.com/evenements/cycle-complet-des-avocats-conseil-des-familles/
CATEGORIES:Distanciel,Formation
ATTACH;FMTTYPE=image/png:https://www.institut-dfp.com/wp-content/uploads/2025/03/ok-inscriptions-2.png
END:VEVENT
BEGIN:VEVENT
DTSTART;TZID=Europe/Paris:20250428T180000
DTEND;TZID=Europe/Paris:20250428T200000
DTSTAMP:20260424T025953
CREATED:20250225T173036Z
LAST-MODIFIED:20250714T112056Z
UID:1100-1745863200-1745870400@www.institut-dfp.com
SUMMARY:Déplacements et rétentions illicites d’enfants à l’international
DESCRIPTION:8.2 / 10 note de satisfaction de nos apprenants suite aux réponses aux questionnaires d’évaluation. \nCette formation vise ainsi à doter les praticiens d’outils concrets pour intervenir avec efficacité dans les dossiers d’enlèvement international d’enfants\, en leur permettant d’anticiper les difficultés et d’agir rapidement.  \n\nLa première partie de la formation est consacrée à l’identification des bons réflexes à avoir dès la découverte de l’enlèvement : qualification juridique des faits\, premier contact avec les autorités compétentes\, articulation avec les procédures civiles et pénales. Une attention particulière est portée au rôle de l’avocat\, tant sur le plan procédural que stratégique. \nLa seconde partie s’attache aux aspects pratiques du traitement de ces dossiers : coordination avec les autorités centrales\, mise en œuvre des procédures de retour\, coopération avec les professionnels étrangers\, mobilisation des recours disponibles en fonction de la situation. Des conseils concrets permettront aux participants de sécuriser leurs premières interventions et d’accompagner au mieux leurs clients dans ces moments particulièrement sensibles. \nOBJECTIFS PÉDAGOGIQUES\nAcquérir les bons réflexes dans le cadre d’un dossier d’enlèvement international d’enfants\, de la France vers l’étranger ou de l’étranger vers la France. \nNiveau Intermédiaire\n \nTarifs :\nAdhérents : 50€ HT\nNon adhérents : 70 € HT \nSi vous êtes adhérent de l’IDFP\, le tarif préférentiel sera appliqué sur votre facture à réception de votre pré-inscription. \nToutes nos formations permettent de valider vos heures et sont susceptibles d’une prise en charge par le FIF-PL. \nDemander l’adhésion \nINFORMATIONS PRATIQUES\nDate : Le 28 avril 2025\nHoraires : De 18h à 20h\nFormat : En visioconférence\nFormation Qualiopi – Eligible FCO \nDurée totale : 2h \nFormateurs :\nMe Morghân Peltier Avocate associée au cabinet CM&A – Chauveau Mulon & Associés. \net Me Flavien Ricou Avocat au cabinet CM&A – Chauveau Mulon & Associés. \nMODALITÉS ET DÉLAIS D’ACCÈS\nFormation en distanciel sur Zoom. Inscriptions ouvertes jusqu’au 25/04/2025. \nUne fois la formation suivie\, vous recevrez les ressources complémentaires dans un délai de 10 jours.\nEn cas d’absence\, vous recevrez également les ressources complémentaires sous condition d’inscription.\nUne fois la formation suivie\, vous bénéficiez d’un accès illimité aux ressources. \nAccès handicap : \nNos locaux sont accessibles aux personnes en fauteuil\, et des aménagements sont possibles sur demande avec étude au cas par cas. Contactez : institut@institut-dfp.com \nTélécharger notre guide handicap.
URL:https://www.institut-dfp.com/evenements/deplacements-et-retentions-illicites-enfants-international/
CATEGORIES:Distanciel,Formation
ATTACH;FMTTYPE=image/png:https://www.institut-dfp.com/wp-content/uploads/2025/02/avril25-deplacement-denfants-3.png
END:VEVENT
END:VCALENDAR