BEGIN:VCALENDAR
VERSION:2.0
PRODID:-//Institut du Droit de la Famille et du Patrimoine | Paris - ECPv6.15.20//NONSGML v1.0//EN
CALSCALE:GREGORIAN
METHOD:PUBLISH
X-ORIGINAL-URL:https://www.institut-dfp.com
X-WR-CALDESC:Évènements pour Institut du Droit de la Famille et du Patrimoine | Paris
REFRESH-INTERVAL;VALUE=DURATION:PT1H
X-Robots-Tag:noindex
X-PUBLISHED-TTL:PT1H
BEGIN:VTIMEZONE
TZID:Europe/Paris
BEGIN:DAYLIGHT
TZOFFSETFROM:+0100
TZOFFSETTO:+0200
TZNAME:CEST
DTSTART:20240331T010000
END:DAYLIGHT
BEGIN:STANDARD
TZOFFSETFROM:+0200
TZOFFSETTO:+0100
TZNAME:CET
DTSTART:20241027T010000
END:STANDARD
BEGIN:DAYLIGHT
TZOFFSETFROM:+0100
TZOFFSETTO:+0200
TZNAME:CEST
DTSTART:20250330T010000
END:DAYLIGHT
BEGIN:STANDARD
TZOFFSETFROM:+0200
TZOFFSETTO:+0100
TZNAME:CET
DTSTART:20251026T010000
END:STANDARD
BEGIN:DAYLIGHT
TZOFFSETFROM:+0100
TZOFFSETTO:+0200
TZNAME:CEST
DTSTART:20260329T010000
END:DAYLIGHT
BEGIN:STANDARD
TZOFFSETFROM:+0200
TZOFFSETTO:+0100
TZNAME:CET
DTSTART:20261025T010000
END:STANDARD
END:VTIMEZONE
BEGIN:VEVENT
DTSTART;TZID=Europe/Paris:20250408T180000
DTEND;TZID=Europe/Paris:20251201T200000
DTSTAMP:20260423T173724
CREATED:20250320T164839Z
LAST-MODIFIED:20251125T102016Z
UID:1131-1744135200-1764619200@www.institut-dfp.com
SUMMARY:Cycle complet des Avocats Conseil des Familles
DESCRIPTION:L’avocat conseil des familles est au cœur des réflexions de la commission prospective de l’IDFP. Nous vous invitons à participer à notre nouveau cycle de formations 100% distanciel sur la thématique de l’avocat conseil des familles. \nNous installons aussi la tenue\, chaque mois d’octobre\, d’un colloque annuel en présentiel à la Maison du barreau dédié à l’avocat conseil des familles. \nCette année\, il sera consacré à l’accompagnement familial du chef d’entreprise. \n\n\n\n\nSuivez une série de 8 formations pratiques réparties sur l’année 2025 à raison d’une formation par mois. \n🎯 14 heures de formation éligible à la FCO pour approfondir les sujets et les mettre en perspective dans la pratique quotidienne de l’avocat conseil des familles \n\nProgramme du cycle :\n\n\n\n\n08 Avril : Les outils au service de l’avocat conseil des familles : le legal design (partie 1)\n01 Juillet : Utiliser les méthodes des MARD dans la mission de conseil des familles\n17 Septembre (18h – 20h) : L’avocat conseil et la filiation biologique/d’intention\n23 Septembre (18h – 20h) : La systémie\, nouvelle ressource pour l’avocat conseil des familles\n13 Novembre (18h – 20h) : L’anticipation de l’incapacité ou du décès du parent d’un enfant mineur\n18 Novembre (18h – 20h) : Les outils au service de l’avocat conseil des familles : l’IA (partie 2)\n1er Décembre (18h – 20h) : L’élaboration des contrats de famille : Union Libre\n\n\n\n\n\n\n\nInformations Pratiques\nTarifs : \n\n420€ HT pour les non-adhérents.\n300€ HT pour les adhérents IDFP.\n\nSi vous êtes adhérent de l’IDFP\, le tarif préférentiel sera appliqué sur votre facture à réception de votre pré-inscription. \nDemander l’adhésion \nToutes nos formations permettent de valider vos heures et sont susceptibles d’une prise en charge par le FIF-PL. \nDurée : Cycle de 14h de formation à distance sur l’année 2025\nFormation Qualiopi – Eligible FCO \nMODALITÉS ET DÉLAIS D’ACCÈS : \nFormation en distanciel sur Zoom. Inscriptions ouvertes jusqu’au 01/11/2025. \nUne fois la formation suivie\, vous recevrez les ressources complémentaires dans un délai de 10 jours.\nEn cas d’absence\, vous recevrez également les ressources complémentaires sous condition d’inscription.\nUne fois la formation suivie\, vous bénéficiez d’un accès illimité aux ressources. \nAccès handicap :  \nNos locaux sont accessibles aux personnes en fauteuil\, et des aménagements sont possibles sur demande avec étude au cas par cas. Contactez : institut@institut-dfp.com \nTélécharger notre guide handicap.
URL:https://www.institut-dfp.com/evenements/cycle-complet-des-avocats-conseil-des-familles/
CATEGORIES:Distanciel,Formation
ATTACH;FMTTYPE=image/png:https://www.institut-dfp.com/wp-content/uploads/2025/03/ok-inscriptions-2.png
END:VEVENT
BEGIN:VEVENT
DTSTART;TZID=Europe/Paris:20251107T090000
DTEND;TZID=Europe/Paris:20251107T123000
DTSTAMP:20260423T173724
CREATED:20251015T131257Z
LAST-MODIFIED:20251015T131257Z
UID:1457-1762506000-1762518600@www.institut-dfp.com
SUMMARY:Cycle MARD : Proposer et vérifier la qualité des expertises amiables
DESCRIPTION:Le module « Proposer et vérifier la qualité des expertises amiables » fait partie du cycle de formation Les MARD adaptés au droit des familles. \nPour rappel\, la formation est divisée en 9 modules dont 6 à distance et 3 en présentiel à Paris. \n3 modules de tronc commun – recommandés pour les apprenants débutants : \n\nLa Mécanique du conflit (1 journée en visio)\nUn kaléidoscope des familles (1 journée en visio)\nSavoir négocier (2 journées en présentiel)\n\nToutes nos formations permettent de valider vos heures et sont susceptibles d’une prise en charge par le FIF-PL. \nDemander l’adhésion \nCONTENU DU MODULE\nComment initier et encadrer des expertises amiables\, en particulier dans les champs psychologique et financier. \nINFORMATIONS PRATIQUES\nDate : 7 novembre 2025\nFormat : En visio\nFormation Qualiopi – Eligible FCO \nDurée totale : 3h30 heures reconnues dans le cadre de la FCO. \nMODALITÉS ET DÉLAIS D’ACCÈS\nFormation en distanciel sur Zoom. Inscriptions ouvertes jusqu’au 19/08/2025. \nUne fois la formation suivie\, vous recevrez les ressources complémentaires dans un délai de 10 jours.\nEn cas d’absence\, vous recevrez également les ressources complémentaires sous condition d’inscription.\nUne fois la formation suivie\, vous bénéficiez d’un accès illimité aux ressources. \nAccès handicap : \nNos locaux sont accessibles aux personnes en fauteuil\, et des aménagements sont possibles sur demande avec étude au cas par cas. Contactez : institut@institut-dfp.com \nTélécharger notre guide handicap.
URL:https://www.institut-dfp.com/evenements/cycle-mard-proposer-et-verifier-la-qualite-des-expertises-amiables/
CATEGORIES:Cycle,Distanciel,Formation,Présentiel
ATTACH;FMTTYPE=image/png:https://www.institut-dfp.com/wp-content/uploads/2025/06/ok-inscriptions-7.png
END:VEVENT
BEGIN:VEVENT
DTSTART;TZID=Europe/Paris:20251107T140000
DTEND;TZID=Europe/Paris:20251107T173000
DTSTAMP:20260423T173724
CREATED:20251002T141818Z
LAST-MODIFIED:20251015T131442Z
UID:1442-1762524000-1762536600@www.institut-dfp.com
SUMMARY:Cycle MARD : L’amiable en cas de violences
DESCRIPTION:Le module « L’amiable en cas de violences » fait partie du cycle de formation Les MARD adaptés au droit des familles. \nPour rappel\, la formation est divisée en 9 modules dont 6 à distance et 3 en présentiel à Paris. \n3 modules de tronc commun – recommandés pour les apprenants débutants : \n\nLa Mécanique du conflit (1 journée en visio)\nUn kaléidoscope des familles (1 journée en visio)\nSavoir négocier (2 journées en présentiel)\n\nToutes nos formations permettent de valider vos heures et sont susceptibles d’une prise en charge par le FIF-PL. \nDemander l’adhésion \nCONTENU DU MODULE\nComment initier et encadrer des expertises amiables\, en particulier dans les champs psychologique et financier \nINFORMATIONS PRATIQUES\nDate : 7 novembre 2025\nFormat : En visio\nFormation Qualiopi – Eligible FCO \nDurée totale : 3h30 heures reconnues dans le cadre de la FCO. \nMODALITÉS ET DÉLAIS D’ACCÈS\nFormation en distanciel sur Zoom. Inscriptions ouvertes jusqu’au 19/08/2025. \nUne fois la formation suivie\, vous recevrez les ressources complémentaires dans un délai de 10 jours.\nEn cas d’absence\, vous recevrez également les ressources complémentaires sous condition d’inscription.\nUne fois la formation suivie\, vous bénéficiez d’un accès illimité aux ressources. \nAccès handicap : \nNos locaux sont accessibles aux personnes en fauteuil\, et des aménagements sont possibles sur demande avec étude au cas par cas. Contactez : institut@institut-dfp.com \nTélécharger notre guide handicap.
URL:https://www.institut-dfp.com/evenements/cycle-mard-lamiable-en-cas-de-violences/
CATEGORIES:Cycle,Distanciel,Formation,Présentiel
ATTACH;FMTTYPE=image/png:https://www.institut-dfp.com/wp-content/uploads/2025/06/ok-inscriptions-7.png
END:VEVENT
END:VCALENDAR