BEGIN:VCALENDAR
VERSION:2.0
PRODID:-//Institut du Droit de la Famille et du Patrimoine | Paris - ECPv6.15.20//NONSGML v1.0//EN
CALSCALE:GREGORIAN
METHOD:PUBLISH
X-ORIGINAL-URL:https://www.institut-dfp.com
X-WR-CALDESC:Évènements pour Institut du Droit de la Famille et du Patrimoine | Paris
REFRESH-INTERVAL;VALUE=DURATION:PT1H
X-Robots-Tag:noindex
X-PUBLISHED-TTL:PT1H
BEGIN:VTIMEZONE
TZID:Europe/Paris
BEGIN:DAYLIGHT
TZOFFSETFROM:+0100
TZOFFSETTO:+0200
TZNAME:CEST
DTSTART:20240331T010000
END:DAYLIGHT
BEGIN:STANDARD
TZOFFSETFROM:+0200
TZOFFSETTO:+0100
TZNAME:CET
DTSTART:20241027T010000
END:STANDARD
BEGIN:DAYLIGHT
TZOFFSETFROM:+0100
TZOFFSETTO:+0200
TZNAME:CEST
DTSTART:20250330T010000
END:DAYLIGHT
BEGIN:STANDARD
TZOFFSETFROM:+0200
TZOFFSETTO:+0100
TZNAME:CET
DTSTART:20251026T010000
END:STANDARD
BEGIN:DAYLIGHT
TZOFFSETFROM:+0100
TZOFFSETTO:+0200
TZNAME:CEST
DTSTART:20260329T010000
END:DAYLIGHT
BEGIN:STANDARD
TZOFFSETFROM:+0200
TZOFFSETTO:+0100
TZNAME:CET
DTSTART:20261025T010000
END:STANDARD
BEGIN:DAYLIGHT
TZOFFSETFROM:+0100
TZOFFSETTO:+0200
TZNAME:CEST
DTSTART:20270328T010000
END:DAYLIGHT
BEGIN:STANDARD
TZOFFSETFROM:+0200
TZOFFSETTO:+0100
TZNAME:CET
DTSTART:20271031T010000
END:STANDARD
END:VTIMEZONE
BEGIN:VEVENT
DTSTART;TZID=Europe/Paris:20251201T090000
DTEND;TZID=Europe/Paris:20260630T123000
DTSTAMP:20260423T124402
CREATED:20251125T101752Z
LAST-MODIFIED:20260109T123911Z
UID:1511-1764579600-1782822600@www.institut-dfp.com
SUMMARY:Cycle Contrats & Familles : union libre\, PACS\, indivision\, mobilité internationale
DESCRIPTION:📣 L’IDFP lance un nouveau cycle de formations : “CONTRATS & FAMILLES” \nLe métier d’avocat en droit de la famille évolue.\nLes attentes des clients aussi. \nDans un contexte de mobilité internationale\, d’unions diversifiées et de stratégies patrimoniales de plus en plus complexes\, la maîtrise de l’ingénierie contractuelle devient une compétence incontournable. \nC’est pour répondre à cette évolution que l’IDFP crée un nouveau cycle structuré\, pratique et opérationnel : \n➡ Cycle “CONTRATS & FAMILLE” – 4 modules sur 2025 & 2026 \nDemander l’adhésion \nCONTENU DU MODULE\nDonner aux praticiens les outils pour : \n✔️ anticiper les conflits plutôt que les subir\n✔️ sécuriser les unions et projets familiaux\n✔️ proposer des accompagnements sur-mesure\n✔️ limiter les contentieux post-rupture\n✔️ développer une expertise stratégique et différenciante \nINFORMATIONS PRATIQUES\nLes 4 modules du cycle : \n1️⃣ Union libre – 1er décembre 2025 (en visio ou en replay)\n2️⃣  PACS : stratégies et clauses essentielles – 12 février 2026\n3️⃣ Indivision : prévenir les blocages – avril 2026\n4️⃣ Couples internationaux : anticipations contractuelles – juin 2026 \nFormat : En visio\nFormation Qualiopi – Eligible FCO \nDurée totale : 8h00 heures reconnues dans le cadre de la FCO. \nMODALITÉS ET DÉLAIS D’ACCÈS\nFormation en distanciel sur Zoom. Inscriptions ouvertes jusque juin 2026. \nUne fois la formation suivie\, vous recevrez les ressources complémentaires dans un délai de 10 jours.\nEn cas d’absence\, vous recevrez également les ressources complémentaires sous condition d’inscription.\nUne fois la formation suivie\, vous bénéficiez d’un accès illimité aux ressources. \nAccès handicap : \nNos locaux sont accessibles aux personnes en fauteuil\, et des aménagements sont possibles sur demande avec étude au cas par cas. Contactez : institut@institut-dfp.com \nTélécharger notre guide handicap.
URL:https://www.institut-dfp.com/evenements/cycle-contrats-familles-union-libre-pacs-indivision-mobilite-internationale/
CATEGORIES:Cycle,Distanciel,Formation,Présentiel
ATTACH;FMTTYPE=image/png:https://www.institut-dfp.com/wp-content/uploads/2025/11/1763986360476.png
END:VEVENT
BEGIN:VEVENT
DTSTART;TZID=Europe/Paris:20260630T170000
DTEND;TZID=Europe/Paris:20260630T200000
DTSTAMP:20260423T124402
CREATED:20260109T133829Z
LAST-MODIFIED:20260109T133829Z
UID:1548-1782838800-1782849600@www.institut-dfp.com
SUMMARY:S’aimer au-delà des frontières : sécuriser le couple en mobilité internationale
DESCRIPTION:La formation S’aimer au-delà des frontières : sécuriser le couple en mobilité internationale fait partie du Cycle Contrats & Familles.  \nLa mobilité internationale expose le couple à une recomposition de son cadre juridique : loi applicable\, statut personnel\, droits sociaux\, fiscalité\, patrimoine\, voire régime matrimonial peuvent être bouleversés en fonction du pays d’accueil. Autant d’éléments qui peuvent fragiliser l’équilibre du couple si rien n’est anticipé. \nDans un monde où les projets de vie s’internationalisent\, le contrat familial préventif devient un véritable outil de protection : il permet de clarifier les attentes\, d’organiser les contributions\, d’encadrer l’impact de l’expatriation et de sécuriser celui ou celle dont la situation économique est la plus vulnérable dans la mobilité. Le contrat de coparentalité\, offre également un cadre sécurisant pour les couples qui se projettent dans la parentalité à l’étranger\, mais aussi pour ceux qui partent déjà en mobilité internationale avec des enfants. Il permet d’anticiper l’organisation familiale\, les responsabilités parentales et les conséquences d’un éventuel retour\, d’un prolongement d’expatriation ou même d’une séparation.\nNous montrerons comment une approche préventive et collaborative – inspirée notamment des pratiques contractuelles développées au Brésil – permet de construire des conventions lisibles et opérationnelles\, capables d’anticiper les risques liés à la mobilité internationale. \nOBJECTIFS PÉDAGOGIQUES\n→ Identifier les risques et zones de vulnérabilité propres aux couples internationaux\n→ Construire des contrats familiaux préventifs et des contrats de coparentalité adaptés à l’expatriation\n→ Sécuriser sa pratique grâce à une approche préventive\, collaborative et comparative\n→ Intégrer le legal design et l’IA pour faciliter la compréhension et la prise de décision \nNiveau Débutant\n \nTarifs :\nFormation seule : \nAdhérents : 50€ HT\nNon adhérents : 70 € HT \nOu dans le cycle : \nAdhérents : 200€ HT\nNon adhérents : 280 € HT \nSi vous êtes adhérent de l’IDFP\, le tarif préférentiel sera appliqué sur votre facture à réception de votre pré-inscription. \nToutes nos formations permettent de valider vos heures et sont susceptibles d’une prise en charge par le FIF-PL. \nDemander l’adhésion \nINFORMATIONS PRATIQUES\nDate : JUIN 2026 (date fixée asap)\nHoraires : De 17h à 20h\nFormat : En visioconférence\nFormation Qualiopi – Eligible FCO \nDurée totale : 2h \nFormateurs :\nFadela Houari\, Avocate inscrite au Barreau de Paris\nAnne-Caroline VIBOUREL\, Avocate et médiatrice inscrite au Barreau de Lyon\nLívia POSSI\, Avocate à São Paulo – Brésil \nMODALITÉS ET DÉLAIS D’ACCÈS\nFormation en distanciel sur Zoom. Inscriptions ouvertes jusqu’au 10/04/2026 \nUne fois la formation suivie\, vous recevrez les ressources complémentaires dans un délai de 10 jours.\nEn cas d’absence\, vous recevrez également les ressources complémentaires sous condition d’inscription.\nUne fois la formation suivie\, vous bénéficiez d’un accès illimité aux ressources. \nAccès handicap : \nNos locaux sont accessibles aux personnes en fauteuil\, et des aménagements sont possibles sur demande avec étude au cas par cas. Contactez : institut@institut-dfp.com \nTélécharger notre guide handicap. \n 
URL:https://www.institut-dfp.com/evenements/saimer-au-dela-des-frontieres-securiser-le-couple-en-mobilite-internationale/
CATEGORIES:Distanciel,Formation,Webinaire
ATTACH;FMTTYPE=image/png:https://www.institut-dfp.com/wp-content/uploads/2025/11/1763986360476.png
END:VEVENT
END:VCALENDAR