BEGIN:VCALENDAR
VERSION:2.0
PRODID:-//Institut du Droit de la Famille et du Patrimoine | Paris - ECPv6.15.20//NONSGML v1.0//EN
CALSCALE:GREGORIAN
METHOD:PUBLISH
X-WR-CALNAME:Institut du Droit de la Famille et du Patrimoine | Paris
X-ORIGINAL-URL:https://www.institut-dfp.com
X-WR-CALDESC:Évènements pour Institut du Droit de la Famille et du Patrimoine | Paris
REFRESH-INTERVAL;VALUE=DURATION:PT1H
X-Robots-Tag:noindex
X-PUBLISHED-TTL:PT1H
BEGIN:VTIMEZONE
TZID:Europe/Paris
BEGIN:DAYLIGHT
TZOFFSETFROM:+0100
TZOFFSETTO:+0200
TZNAME:CEST
DTSTART:20200329T010000
END:DAYLIGHT
BEGIN:STANDARD
TZOFFSETFROM:+0200
TZOFFSETTO:+0100
TZNAME:CET
DTSTART:20201025T010000
END:STANDARD
BEGIN:DAYLIGHT
TZOFFSETFROM:+0100
TZOFFSETTO:+0200
TZNAME:CEST
DTSTART:20210328T010000
END:DAYLIGHT
BEGIN:STANDARD
TZOFFSETFROM:+0200
TZOFFSETTO:+0100
TZNAME:CET
DTSTART:20211031T010000
END:STANDARD
BEGIN:DAYLIGHT
TZOFFSETFROM:+0100
TZOFFSETTO:+0200
TZNAME:CEST
DTSTART:20220327T010000
END:DAYLIGHT
BEGIN:STANDARD
TZOFFSETFROM:+0200
TZOFFSETTO:+0100
TZNAME:CET
DTSTART:20221030T010000
END:STANDARD
END:VTIMEZONE
BEGIN:VEVENT
DTSTART;VALUE=DATE:20210916
DTEND;VALUE=DATE:20211124
DTSTAMP:20260425T185016
CREATED:20241014T201542Z
LAST-MODIFIED:20241014T201732Z
UID:909-1631750400-1637711999@www.institut-dfp.com
SUMMARY:Cycle de formations d’avocat praticien des modes amiables en droit de la famille
DESCRIPTION:Entre le 16 septembre 2021 et novembre ou décembre 2021 en visio sauf la clôture en partenariat avec l’ifomene-icp 5 modules – 65 heures ou modules au choix équivalent du médiateur ifomene objectif. \nDonner une formation complète (théorique et pratique) aux modes amiables de résolution des différents spécialement adaptée au droit de la famille\, des personnes et de leur patrimoine\, pour que les avocats et autres praticiens de la famille soient en mesure de conduire efficacement leurs dossiers vers une solution négociée et apaisée. Ces formations se tiendront uniquement en visio-conférence PUBLIC L’ensemble des praticiens du droit de la famille\, des personnes et de leur patrimoine. \nDATES DES MODULES : DUREE : 65 H OU MODULES SEPARES DE 15 H OU 45 H • \nConférence introductive en visio :  le 16 septembre 2021 (2 heures) • \nModule 1 en visio: le 17 et 18 septembre 2021 (outils de com) • \nModule 2 en visio : le 1er et 2 octobre 2021 (négociation raisonnée) • \nModule 3 en visio : le 15 et 16 octobre 2021 (procédure participative) • \nModule 4 en visio : le 5 et 6 novembre 2021 (accompagnement à la médiation) • \nModule 5 en visio : le 19 et 20 novembre 2021 (processus collaboratif) \nClôture + remise des diplômes et cocktail en présentiel : le 22 ou 23 novembre ou le 10 décembre 2021 (3 heures) \nCERTIFICATION \nUn certificat d’avocat praticien des modes amiables / du mode amiable choisi est délivré par l’IDFP à l’issue de la formation couvrant le ou les cycles suivis. Le certificat de participation à l’ensemble des quatre cycles ainsi qu’à la conférence d’enseignements communs confère une équivalence au DU1 de l’IFOMENE-ICP permettant de s’inscrire directement en 2ème partie du diplôme Universitaire de Médiateur « DU2 » de l’IFOMENE ICP\, diplôme validé par le CNB pour être admis au CNMA\, validé par la formation continue de l’ENM\, inscrit au Répertoire National des Certifications Professionnelles. Les participants aux cycles outils de communication et négociation raisonnée + processus collaboratif bénéficieront de la certification de praticien collaboratif délivrée par l’IDFP. \nCONFERENCE INTRODUCTIVE : ESPRIT\, ETHIQUE ET METHODE   \nJeudi 16 septembre 18H00/20H00 \nIntervenants : Elodie Mulon\,  Stephen Bensimon\, Hirbod Dehghani Azar \nParcours de formation Philosophie\, éthique et déontologie de la résolution amiable Place des MARD dans la résolution judiciaire des différents \nMODULE 1 : TECHNIQUE DE COMMUNICATION\, ECOUTE ET REFORMULATION   \nVendredi 17 septembre 10H00/13H00 et 14H00/17H00 Et samedi 18 septembre 10H00 /13H00 et 14H00/17H00 \nIntervenantes : Catherine Bourgues et Anne Marion de Cayeux \nAmener son client à la résolution amiable\, conduire le processus en adoptant la bonne posture\, développer sa capacité à écouter\, synthétiser\, accompagner et créer des options. \nPrésentation des outils (VAKOG\, les niveaux de langages\, les outils de la PNL\, la CNV…) :  L’écoute active et son outil : la reformulation Les différents types de reformulations en fonction des situations  Théorie et pratique \nMODULE 2 : NEGOCIATION RAISONNEE   \nVendredi 1er octobre 10H00/13H00 et 14H00/17H00 Et samedi : 2 octobre 10H00/13H00 et 14H00/17H00  Intervenantes : Catherine Bourgues et Nolwenn Leroux \nSavoir négocier en intelligence et créativité pour une conduite efficace et sécurisante du dossier dans un esprit de coopération. \nLes typologies des négociations et des négociateurs La spécificité de la négociation raisonnée (les piliers\, leurs fonctions) Application de la NR aux différents MARD Exercices \nMODULE 3 : LA PROCEDURE PARTICIPATIVE   \nVendredi 15 octobre 2021 10H00/13H00 et 14H00 /17H00 Et samedi 16 octobre 2021 10H00 à 13H00 et 14H00/17H00 \nIntervenante : Carine Denoit-Benteux \nDécouvrir le cadre\, savoir proposer et conduire une procédure participative. \nFavoriser la restauration du dialogue et permettre l’émergence des solutions. \nMaîtriser la pratique de la procédure participative \nCadre légal de la procédure participative appliquée au droit de la famille\, des personnes\, et du patrimoine Modèles d’actes Atelier pratique de mise en situation \nMODULE 4 : ACCOMPAGNER EN MEDIATION JUDICIAIRE ET CONVENTIONNELLE    \nVendredi 5 novembre 2021 10H00/13H00 et 14H00 /17H00 Et samedi 6 novembre 2021 10H00/13H00 et 14H00/17H00 \nIntervenantes : Carine Denoit-Benteux et Anne Marion de Cayeux \nMaîtriser la pratique de l’accompagnement en médiation \nConnaître le cadre de la médiation judiciaire et conventionnelle\, amener son client en médiation\, collaborer avec le médiateur\, participer aux séances et coacher son client. \nLe cadre légal \nLe processus pas à pas \nLes points de vigilance sur la confidentialité et autres \nLes modèles d’actes \nRetour sur le processus et la posture \nExercices pratiques \nMODULE 5 : LE PROCESSUS COLLABORATIF   \nVendredi 19 novembre 9H30/13H00 et 14H00/18H00 Et samedi 20 novembre 9H30/13H00 et 14H00/17H00 \nIntervenantes : Catherine Bourgues et Nolwenn Leroux \nMaîtriser le processus collaboratif : son cadre\, ses étapes\, ses spécificités. \nLe Contrat collaboratif et les piliers du processus \nLes étapes du processus collaboratif \nLa spécificité du droit collaboratif \nDéroulé d’un processus collaboratif \nCONFERENCE DE CLOTURE ET REMISE DES CERTIFICATS  22 ou 23 novembre ou 10 décembre 2021 date à déterminer   \nIntervenants : Elodie Mulon\, Stephen Bensimon\, Hirbod Dehghani Azar\, Catherine Bourgues\, Carine Denoit-Benteux\, Anne Marion de Cayeux\, Nolwenn Leroux \nSéance de clôture\, remise des diplômes\, cocktail \nMaître Elodie Mulon Présidente de l’IDFP\, Avocat au Barreau de Paris\, AMCNB\, AMCO\, Avocat associé de MULON et ASSOCIES \nMonsieur Stephen BENSIMON Directeur de l’Institut de Formation à la Médiation et à la Négociation (ICP)\, Professeur affilié Sciences-Po (Executive Education)\, philosophe\, médiateur\, normalien. \nMaître Catherine BOURGUES  Administrateur de l’IDFP\, Avocat au Barreau de Paris\, formatrice et praticienne du droit collaboratif et négociation raisonnée. \nMaître Anne Marion de CAYEUX Vice -Présidente de l’IDFP\, Avocat au Barreau de Paris\, spécialiste en droit de la famille\, des personnes et de leur patrimoine\, médiateur familial agréé CNMA titulaire du DEMF\, praticienne de droit collaboratif. \nMonsieur Hirbod DEHGHANI AZAR Avocat au Barreau de Paris et médiateur. MCO et expert sur les Modes Alternatifs de Règlements des Différents auprès des diverses institutions (Conseil National des Barreaux\, Conseil des Barreaux Européens\, Comité Justice administrative et Médiation au conseil d’Etat). Directeur de l’Institut de Formation à la Médiation et la Négociation (IFOMENE). \nMaître Carine DENOIT BENTEUX Administrateur de l’IDFP\,  Avocat au Barreau de Paris\, AMCNB\, AMCO\, médiateur agréé CNMA\, Avocat associé de DBO AVOCATS\, praticienne du droit collaboratif. \nMaître Nolwenn LEROUX Avocat au Barreau de Paris\, formatrice et praticienne de droit collaboratif et négociation raisonnée.
URL:https://www.institut-dfp.com/evenements/cycle-de-formations-davocat-praticien-des-modes-amiables-en-droit-de-la-famille/
CATEGORIES:Formation,Hybride
END:VEVENT
END:VCALENDAR