BEGIN:VCALENDAR
VERSION:2.0
PRODID:-//Institut du Droit de la Famille et du Patrimoine | Paris - ECPv6.15.20//NONSGML v1.0//EN
CALSCALE:GREGORIAN
METHOD:PUBLISH
X-WR-CALNAME:Institut du Droit de la Famille et du Patrimoine | Paris
X-ORIGINAL-URL:https://www.institut-dfp.com
X-WR-CALDESC:Évènements pour Institut du Droit de la Famille et du Patrimoine | Paris
REFRESH-INTERVAL;VALUE=DURATION:PT1H
X-Robots-Tag:noindex
X-PUBLISHED-TTL:PT1H
BEGIN:VTIMEZONE
TZID:Europe/Paris
BEGIN:DAYLIGHT
TZOFFSETFROM:+0100
TZOFFSETTO:+0200
TZNAME:CEST
DTSTART:20240331T010000
END:DAYLIGHT
BEGIN:STANDARD
TZOFFSETFROM:+0200
TZOFFSETTO:+0100
TZNAME:CET
DTSTART:20241027T010000
END:STANDARD
BEGIN:DAYLIGHT
TZOFFSETFROM:+0100
TZOFFSETTO:+0200
TZNAME:CEST
DTSTART:20250330T010000
END:DAYLIGHT
BEGIN:STANDARD
TZOFFSETFROM:+0200
TZOFFSETTO:+0100
TZNAME:CET
DTSTART:20251026T010000
END:STANDARD
BEGIN:DAYLIGHT
TZOFFSETFROM:+0100
TZOFFSETTO:+0200
TZNAME:CEST
DTSTART:20260329T010000
END:DAYLIGHT
BEGIN:STANDARD
TZOFFSETFROM:+0200
TZOFFSETTO:+0100
TZNAME:CET
DTSTART:20261025T010000
END:STANDARD
END:VTIMEZONE
BEGIN:VEVENT
DTSTART;VALUE=DATE:20251010
DTEND;VALUE=DATE:20251011
DTSTAMP:20260423T185358
CREATED:20251002T134238Z
LAST-MODIFIED:20251007T103440Z
UID:1438-1760054400-1760140799@www.institut-dfp.com
SUMMARY:Cycle MARD : L'amiable dans le judiciaire
DESCRIPTION:Le module « L’amiable dans le judiciaire » fait partie du cycle de formation Les MARD adaptés au droit des familles. \nPour rappel\, la formation est divisée en 9 modules dont 6 à distance et 3 en présentiel à Paris. \n3 modules de tronc commun – recommandés pour les apprenants débutants : \n\nLa Mécanique du conflit (1 journée en visio)\nUn kaléidoscope des familles (1 journée en visio)\nSavoir négocier (2 journées en présentiel)\n\nToutes nos formations permettent de valider vos heures et sont susceptibles d’une prise en charge par le FIF-PL. \nDemander l’adhésion \nCONTENU DU MODULE\nAnalyse des procédures hybrides (procédure participative\, ARA\, césure) qui permettent de combiner justice étatique et recherche d’accord amiable. \nINTERVENANTS\nPROCÉDURE PARTICIPATIVE \nFadéla HOUARI\, Avocate au Barreau de Paris en droit de la famille et du\npatrimoine\nProfesseur d’Universités ou Magistrat\, En cours de confirmation \nARA & CÉSURE \nFadéla HOUARI\, Avocate au Barreau de Paris en droit de la famille et du\npatrimoine\nPatricia SIMO\, Avocate au Barreau de Paris en droit de la famille et du\npatrimoine\nMagistrat\, En cours de confirmation \nINFORMATIONS PRATIQUES\nDate : 10 octobre 2025\nFormat : En visio\nFormation Qualiopi – Eligible FCO \nDurée totale : 7 heures reconnues dans le cadre de la FCO. \nMODALITÉS ET DÉLAIS D’ACCÈS\nFormation en distanciel sur Zoom. Inscriptions ouvertes jusqu’au 09/10/2025. \nUne fois la formation suivie\, vous recevrez les ressources complémentaires dans un délai de 10 jours.\nEn cas d’absence\, vous recevrez également les ressources complémentaires sous condition d’inscription.\nUne fois la formation suivie\, vous bénéficiez d’un accès illimité aux ressources. \nAccès handicap : \nNos locaux sont accessibles aux personnes en fauteuil\, et des aménagements sont possibles sur demande avec étude au cas par cas. Contactez : institut@institut-dfp.com \nTélécharger notre guide handicap.
URL:https://www.institut-dfp.com/evenements/cycle-mard-lamiable-dans-le-judiciaire/
CATEGORIES:Cycle,Distanciel,Formation,Présentiel
ATTACH;FMTTYPE=image/png:https://www.institut-dfp.com/wp-content/uploads/2025/06/ok-inscriptions-7.png
END:VEVENT
END:VCALENDAR