BEGIN:VCALENDAR
VERSION:2.0
PRODID:-//Institut du Droit de la Famille et du Patrimoine | Paris - ECPv6.15.20//NONSGML v1.0//EN
CALSCALE:GREGORIAN
METHOD:PUBLISH
X-WR-CALNAME:Institut du Droit de la Famille et du Patrimoine | Paris
X-ORIGINAL-URL:https://www.institut-dfp.com
X-WR-CALDESC:Évènements pour Institut du Droit de la Famille et du Patrimoine | Paris
REFRESH-INTERVAL;VALUE=DURATION:PT1H
X-Robots-Tag:noindex
X-PUBLISHED-TTL:PT1H
BEGIN:VTIMEZONE
TZID:Europe/Paris
BEGIN:DAYLIGHT
TZOFFSETFROM:+0100
TZOFFSETTO:+0200
TZNAME:CEST
DTSTART:20240331T010000
END:DAYLIGHT
BEGIN:STANDARD
TZOFFSETFROM:+0200
TZOFFSETTO:+0100
TZNAME:CET
DTSTART:20241027T010000
END:STANDARD
BEGIN:DAYLIGHT
TZOFFSETFROM:+0100
TZOFFSETTO:+0200
TZNAME:CEST
DTSTART:20250330T010000
END:DAYLIGHT
BEGIN:STANDARD
TZOFFSETFROM:+0200
TZOFFSETTO:+0100
TZNAME:CET
DTSTART:20251026T010000
END:STANDARD
BEGIN:DAYLIGHT
TZOFFSETFROM:+0100
TZOFFSETTO:+0200
TZNAME:CEST
DTSTART:20260329T010000
END:DAYLIGHT
BEGIN:STANDARD
TZOFFSETFROM:+0200
TZOFFSETTO:+0100
TZNAME:CET
DTSTART:20261025T010000
END:STANDARD
END:VTIMEZONE
BEGIN:VEVENT
DTSTART;TZID=Europe/Paris:20250905T100000
DTEND;TZID=Europe/Paris:20250905T173000
DTSTAMP:20260422T211255
CREATED:20250708T153444Z
LAST-MODIFIED:20250718T075356Z
UID:1179-1757066400-1757093400@www.institut-dfp.com
SUMMARY:La mécanique du conflit - Cycle MARD
DESCRIPTION:à venir / 10 note de satisfaction de nos apprenants suite aux réponses aux questionnaires d’évaluation. \nLa mécanique du conflit par Me Catherine BOURGUES\, Avocate au Barreau de Paris en droit de la famille et du patrimoine et Me Anne Marion DE CAYEUX\, Avocat spécialiste en droit de la famille et du patrimoine et également médiateur familial et auditeur d’enfants. \nCet atelier a pour objectif de permettre aux participants de mieux appréhender les dynamiques internes du conflit\, en s’appuyant sur les apports de la théorie et de la phénoménologie. Il s’agira de comprendre les mécanismes profonds qui sous-tendent les situations conflictuelles – qu’ils soient individuels\, relationnels ou systémiques – afin de pouvoir intervenir avec pertinence et efficacité dès leur émergence. \nPremier atelier du Cycle MARD-IFOMENE qui permet d’obtenir une équivalence au DU1 IFOMENE permettant de s’inscrire au DU 2 médiateur de l’IFOMENE. \nOBJECTIFS PÉDAGOGIQUES\n\n\nIdentifier les mécanismes fondamentaux à l’origine des conflits. \n\n\nAppréhender les dimensions phénoménologiques du conflit. \n\n\nAcquérir des repères pour intervenir dès les premiers signes de tension. \n\n\n  \nNiveau Débutant\n \nTarifs :\nAdhérents : 275€ HT\nNon adhérents : 325 € HT \nSi vous êtes adhérent de l’IDFP\, le tarif préférentiel sera appliqué sur votre facture à réception de votre pré-inscription. \nToutes nos formations permettent de valider vos heures et sont susceptibles d’une prise en charge par le FIF-PL. \nDemander l’adhésion \nINFORMATIONS PRATIQUES\nDate : Le 05 septembre 2025\nHoraires : De 10h à 17h30\nFormat : En visioconférence\nFormation Qualiopi – Eligible FCO \nDurée totale : 7h \nFormateurs :\nMe Catherine BOURGUES\, Avocate au Barreau de Paris en droit de la famille et du patrimoine\net Me Anne Marion DE CAYEUX\, Avocat spécialiste en droit de la famille et du patrimoine et également médiateur familial et auditeur d’enfants \nMODALITÉS ET DÉLAIS D’ACCÈS\nFormation en distanciel sur Zoom. Inscriptions ouvertes jusqu’au 01/09/2025. \nUne fois la formation suivie\, vous recevrez les ressources complémentaires dans un délai de 10 jours.\nEn cas d’absence\, vous recevrez également les ressources complémentaires sous condition d’inscription.\nUne fois la formation suivie\, vous bénéficiez d’un accès illimité aux ressources. \nAccès handicap : \nNos locaux sont accessibles aux personnes en fauteuil\, et des aménagements sont possibles sur demande avec étude au cas par cas. Contactez : institut@institut-dfp.com \nTélécharger notre guide handicap. \n 
URL:https://www.institut-dfp.com/evenements/cycle-mard-mecanique-du-conflit/
CATEGORIES:Webinaire
ATTACH;FMTTYPE=image/png:https://www.institut-dfp.com/wp-content/uploads/2025/07/Table-ronde.png
END:VEVENT
END:VCALENDAR