BEGIN:VCALENDAR
VERSION:2.0
PRODID:-//Institut du Droit de la Famille et du Patrimoine | Paris - ECPv6.15.20//NONSGML v1.0//EN
CALSCALE:GREGORIAN
METHOD:PUBLISH
X-WR-CALNAME:Institut du Droit de la Famille et du Patrimoine | Paris
X-ORIGINAL-URL:https://www.institut-dfp.com
X-WR-CALDESC:Évènements pour Institut du Droit de la Famille et du Patrimoine | Paris
REFRESH-INTERVAL;VALUE=DURATION:PT1H
X-Robots-Tag:noindex
X-PUBLISHED-TTL:PT1H
BEGIN:VTIMEZONE
TZID:Europe/Paris
BEGIN:DAYLIGHT
TZOFFSETFROM:+0100
TZOFFSETTO:+0200
TZNAME:CEST
DTSTART:20240331T010000
END:DAYLIGHT
BEGIN:STANDARD
TZOFFSETFROM:+0200
TZOFFSETTO:+0100
TZNAME:CET
DTSTART:20241027T010000
END:STANDARD
BEGIN:DAYLIGHT
TZOFFSETFROM:+0100
TZOFFSETTO:+0200
TZNAME:CEST
DTSTART:20250330T010000
END:DAYLIGHT
BEGIN:STANDARD
TZOFFSETFROM:+0200
TZOFFSETTO:+0100
TZNAME:CET
DTSTART:20251026T010000
END:STANDARD
BEGIN:DAYLIGHT
TZOFFSETFROM:+0100
TZOFFSETTO:+0200
TZNAME:CEST
DTSTART:20260329T010000
END:DAYLIGHT
BEGIN:STANDARD
TZOFFSETFROM:+0200
TZOFFSETTO:+0100
TZNAME:CET
DTSTART:20261025T010000
END:STANDARD
END:VTIMEZONE
BEGIN:VEVENT
DTSTART;VALUE=DATE:20250905
DTEND;VALUE=DATE:20251129
DTSTAMP:20260422T230641
CREATED:20250617T090105Z
LAST-MODIFIED:20250710T144049Z
UID:1211-1757030400-1764374399@www.institut-dfp.com
SUMMARY:Les MARDs adaptés au droit des familles
DESCRIPTION:Le cycle de formation aux modes amiables spécialement adapté au droit des familles et du patrimoine revient en septembre. \nLa formation est divisée en 9 modules dont 6 à distance et 3 en présentiel à Paris. \n3 modules de tronc commun – recommandés pour les apprenants débutants : \n\nLa Mécanique du conflit (1 journée en visio)\nUn kaléidoscope des familles (1 journée en visio)\nSavoir négocier (2 journées en présentiel)\n\n  \n\nProcessus collaboratif : 100 % de coopération ! (1 journée en visio)\nProposer et accompagner en médiation (1 journée en visio)\nL’amiable dans le judiciaire : Procédure participative\, ARA et césure (1 journée en visio)\nProposer et vérifier la qualité des expertises amiables (une demi-journée en visio)\nL’amiable en cas de violences : pourquoi et comment faire ? (une demi-journée en visio)\nAudition des enfants : Proposer et organiser une audition amiable (une demi-journée en présentiel)\n\n  \nPour chaque module\, interventions croisées d’universitaires\, d’avocats\, de médiateurs et de professionnels de terrain\, afin de confronter les pratiques et les points de vue.\nLes sessions alternent visioconférences\, formations en présentiel et exercices pratiques. \nWebinaire informatif le 23 juillet de 12h45 à 13h15 \nFAQ sur le Cycle MARD IDFP x Ifomene en directe et gratuitement sur Linkedin Live\nVenez poser toutes vos questions en direct : \n  \nOBJECTIFS PÉDAGOGIQUES \nComprendre la dynamique des conflits familiaux\n→ Acquérir une approche théorique et phénoménologique des conflits pour mieux les appréhender dans le cadre des MARD.\nMaîtriser les outils de négociation et de communication adaptés aux situations familiales\n→ Savoir utiliser la négociation raisonnée et les techniques de communication pour favoriser des solutions amiables et durables.\nDévelopper les compétences de l’avocat accompagnateur en médiation\n→ Intégrer les savoir-faire et savoir-être nécessaires pour conseiller\, accompagner et collaborer efficacement avec le médiateur.\nConnaître les cadres juridiques et procéduraux des MARD intégrés à la justice\n→ Identifier les dispositifs comme la procédure participative\, l’ARA ou la césure\, et comprendre leur articulation avec les procédures judiciaires.\nAdapter les pratiques amiables à des contextes sensibles\n→ Apprendre à proposer une médiation en présence de violences intrafamiliales\, à gérer les expertises amiables et à organiser l’audition amiable des enfants. \nTarifs :\nAdhérents : 1200€ HT\nNon adhérents : 1650 € HT\n– de 5 ans au Barreau : 750 € HT \nSi vous êtes adhérent de l’IDFP\, le tarif préférentiel sera appliqué sur votre facture à réception de votre pré-inscription. \nToutes nos formations permettent de valider vos heures et sont susceptibles d’une prise en charge par le FIF-PL. \nDemander l’adhésion \nINFORMATIONS PRATIQUES\nDate : Du 05 septembre 2025 au 28 novembre 2025\nFormat : En format hybride : 6 modules à distance et 3 en présentiel à Paris.\nFormation Qualiopi – Eligible FCO \nDurée totale : 64 heures reconnues dans le cadre de la FCO. \nMODALITÉS ET DÉLAIS D’ACCÈS\nFormation en distanciel sur Zoom. Inscriptions ouvertes jusqu’au 19/08/2025. \nUne fois la formation suivie\, vous recevrez les ressources complémentaires dans un délai de 10 jours.\nEn cas d’absence\, vous recevrez également les ressources complémentaires sous condition d’inscription.\nUne fois la formation suivie\, vous bénéficiez d’un accès illimité aux ressources. \nAccès handicap : \nNos locaux sont accessibles aux personnes en fauteuil\, et des aménagements sont possibles sur demande avec étude au cas par cas. Contactez : institut@institut-dfp.com \nTélécharger notre guide handicap.
URL:https://www.institut-dfp.com/evenements/les-mards-adaptes-au-droit-des-familles/
CATEGORIES:Cycle,Distanciel,Présentiel
ATTACH;FMTTYPE=image/png:https://www.institut-dfp.com/wp-content/uploads/2025/06/ok-inscriptions-7.png
END:VEVENT
END:VCALENDAR