BEGIN:VCALENDAR
VERSION:2.0
PRODID:-//Institut du Droit de la Famille et du Patrimoine | Paris - ECPv6.15.20//NONSGML v1.0//EN
CALSCALE:GREGORIAN
METHOD:PUBLISH
X-WR-CALNAME:Institut du Droit de la Famille et du Patrimoine | Paris
X-ORIGINAL-URL:https://www.institut-dfp.com
X-WR-CALDESC:Évènements pour Institut du Droit de la Famille et du Patrimoine | Paris
REFRESH-INTERVAL;VALUE=DURATION:PT1H
X-Robots-Tag:noindex
X-PUBLISHED-TTL:PT1H
BEGIN:VTIMEZONE
TZID:Europe/Paris
BEGIN:DAYLIGHT
TZOFFSETFROM:+0100
TZOFFSETTO:+0200
TZNAME:CEST
DTSTART:20250330T010000
END:DAYLIGHT
BEGIN:STANDARD
TZOFFSETFROM:+0200
TZOFFSETTO:+0100
TZNAME:CET
DTSTART:20251026T010000
END:STANDARD
BEGIN:DAYLIGHT
TZOFFSETFROM:+0100
TZOFFSETTO:+0200
TZNAME:CEST
DTSTART:20260329T010000
END:DAYLIGHT
BEGIN:STANDARD
TZOFFSETFROM:+0200
TZOFFSETTO:+0100
TZNAME:CET
DTSTART:20261025T010000
END:STANDARD
BEGIN:DAYLIGHT
TZOFFSETFROM:+0100
TZOFFSETTO:+0200
TZNAME:CEST
DTSTART:20270328T010000
END:DAYLIGHT
BEGIN:STANDARD
TZOFFSETFROM:+0200
TZOFFSETTO:+0100
TZNAME:CET
DTSTART:20271031T010000
END:STANDARD
END:VTIMEZONE
BEGIN:VEVENT
DTSTART;TZID=Europe/Paris:20260212T170000
DTEND;TZID=Europe/Paris:20260212T200000
DTSTAMP:20260423T142646
CREATED:20260109T131422Z
LAST-MODIFIED:20260109T132422Z
UID:1541-1770915600-1770926400@www.institut-dfp.com
SUMMARY:Les partenaires\, des associés comme les autres ? | Cycle Contrats & Familles
DESCRIPTION:La formation Les partenaires\, des associés comme les autres ? fait partie du Cycle Contrats & Familles.  \nLe PACS\, contrat conclu entre deux personnes majeures pour organiser leur vie commune\, institue un régime patrimonial distinct du mariage.\nÀ l’instar des associés d’une société\, les partenaires pacsés peuvent collectivement prendre les décisions importantes concernant leurs biens\, mandater l’un d’entre eux pour la gestion courante\, puis tenir compte des créances et des apports de chacun.\nCette formation explore les convergences fonctionnelles en matière de gestion patrimoniale\, de prise de décision et de liquidation\, tout en rappelant les spécificités du régime du PACS. Les participants apprendront à identifier les créances entre partenaires conformément à la jurisprudence récente. \nOBJECTIFS PÉDAGOGIQUES\n→ Définir ce que sont les partenaires\n→ Se poser la question de l’affectio societatis appliqué au PACS\n→ Repenser l’indivision\, anticiper les pièges\n→ Intégrer les questions relatives à la prescription\n→ Rédiger des conventions de PACS adaptées  \nNiveau Débutant\n \nTarifs :\nFormation seule : \nAdhérents : 50€ HT\nNon adhérents : 70 € HT \nOu dans le cycle : \nAdhérents : 200€ HT\nNon adhérents : 280 € HT \nSi vous êtes adhérent de l’IDFP\, le tarif préférentiel sera appliqué sur votre facture à réception de votre pré-inscription. \nToutes nos formations permettent de valider vos heures et sont susceptibles d’une prise en charge par le FIF-PL. \nDemander l’adhésion \nINFORMATIONS PRATIQUES\nDate : Le 12 février 2026\nHoraires : De 17h à 20h\nFormat : En visioconférence\nFormation Qualiopi – Eligible FCO \nDurée totale : 2h \nFormateurs :\nFadela Houari\, Avocate inscrite au Barreau de Paris\nNicolas Mahassen\, Avocat au Barreau de Paris\nVincent Egéa\, Agrégé des Facultés de droit\, Professeur à Aix-Marseille \nMODALITÉS ET DÉLAIS D’ACCÈS\nFormation en distanciel sur Zoom. Inscriptions ouvertes jusqu’au 10/02/2026 \nUne fois la formation suivie\, vous recevrez les ressources complémentaires dans un délai de 10 jours.\nEn cas d’absence\, vous recevrez également les ressources complémentaires sous condition d’inscription.\nUne fois la formation suivie\, vous bénéficiez d’un accès illimité aux ressources. \nAccès handicap : \nNos locaux sont accessibles aux personnes en fauteuil\, et des aménagements sont possibles sur demande avec étude au cas par cas. Contactez : institut@institut-dfp.com \nTélécharger notre guide handicap. \n 
URL:https://www.institut-dfp.com/evenements/les-partenaires-des-associes-comme-les-autres-cycle-contrats-familles/
CATEGORIES:Distanciel,Formation,Webinaire
ATTACH;FMTTYPE=image/png:https://www.institut-dfp.com/wp-content/uploads/2026/02/Les-partenaires-des-associes-comme-les-autres-.png
END:VEVENT
END:VCALENDAR